BEGIN:VCALENDAR
VERSION:2.0
PRODID:-//Les Shifters Angers Maine-et-Loire - ECPv6.11.2//NONSGML v1.0//EN
CALSCALE:GREGORIAN
METHOD:PUBLISH
X-ORIGINAL-URL:https://shifters-angers.org
X-WR-CALDESC:Évènements pour Les Shifters Angers Maine-et-Loire
REFRESH-INTERVAL;VALUE=DURATION:PT1H
X-Robots-Tag:noindex
X-PUBLISHED-TTL:PT1H
BEGIN:VTIMEZONE
TZID:Europe/Paris
BEGIN:DAYLIGHT
TZOFFSETFROM:+0100
TZOFFSETTO:+0200
TZNAME:CEST
DTSTART:20250330T010000
END:DAYLIGHT
BEGIN:STANDARD
TZOFFSETFROM:+0200
TZOFFSETTO:+0100
TZNAME:CET
DTSTART:20251026T010000
END:STANDARD
END:VTIMEZONE
BEGIN:VEVENT
DTSTART;TZID=Europe/Paris:20250605T140000
DTEND;TZID=Europe/Paris:20250605T190000
DTSTAMP:20260420T175303
CREATED:20250421T134328Z
LAST-MODIFIED:20250421T134328Z
UID:689-1749132000-1749150000@shifters-angers.org
SUMMARY:Cap Transition : accélérer la décarbonation des entreprises
DESCRIPTION:Dans un contexte de backlash environnemental (loi Omnibus…)\, les acteurs de la transition des entreprises se trouvent fragilisés malgré leur rôle crucial. \nLes Shifters Angers Maine-et-Loire souhaitent créer un espace de discussion et d’échange pour les acteurs de la transition des organisations: qu’il s’agissent d’entreprises (cabinets de conseils RSE/CSRD)\, d’indépendants\, d’associations (CEC…)\, ayant pour ambition de mettre l’intelligence collective au service d’une question : \nComment dépasser les réticences et les points de blocage des entreprises pour amorcer leur démarche de transition ? \nAu programme : \n\nune conférence inspirante (à venir)\nune table ronde : Quelles sont les difficultés rencontrées par les pro de la transition ?\ndes ateliers thématiques (en cours de création) en mode “World Café” pour faire émerger des solutions et créer des synergies entre les acteurs de la transition des entreprises.\n\nLa rencontre sera suivie d’un pot convivial pour échanger entre pairs ! \n  \nEVENEMENT SUR INVITATION UNIQUEMENT
URL:https://shifters-angers.org/agenda/cap-transition-accelerer-la-decarbonation-des-entreprises/
LOCATION:Station A\, 14 boulevard Yvonne Poirel\, Angers\, 49000\, France
CATEGORIES:Evénement
ATTACH;FMTTYPE=image/png:https://shifters-angers.org/wp-content/uploads/2025/04/Cap-Transition.png
END:VEVENT
END:VCALENDAR