BEGIN:VCALENDAR
VERSION:2.0
PRODID:-//Les Shifters Angers Maine-et-Loire - ECPv6.11.2//NONSGML v1.0//EN
CALSCALE:GREGORIAN
METHOD:PUBLISH
X-WR-CALNAME:Les Shifters Angers Maine-et-Loire
X-ORIGINAL-URL:https://shifters-angers.org
X-WR-CALDESC:Évènements pour Les Shifters Angers Maine-et-Loire
REFRESH-INTERVAL;VALUE=DURATION:PT1H
X-Robots-Tag:noindex
X-PUBLISHED-TTL:PT1H
BEGIN:VTIMEZONE
TZID:Europe/Paris
BEGIN:DAYLIGHT
TZOFFSETFROM:+0100
TZOFFSETTO:+0200
TZNAME:CEST
DTSTART:20260329T010000
END:DAYLIGHT
BEGIN:STANDARD
TZOFFSETFROM:+0200
TZOFFSETTO:+0100
TZNAME:CET
DTSTART:20261025T010000
END:STANDARD
END:VTIMEZONE
BEGIN:VEVENT
DTSTART;TZID=Europe/Paris:20260115T190000
DTEND;TZID=Europe/Paris:20260115T220000
DTSTAMP:20260420T080324
CREATED:20251230T144545Z
LAST-MODIFIED:20251230T145436Z
UID:881-1768503600-1768514400@shifters-angers.org
SUMMARY:Repas de la nouvelle année !
DESCRIPTION:Après une année 2025 marquée par de multiples événements\, comme le Festival Projection Transition\, Cap Transition ou Démocratie et écologie\, et riche de l’arrivée de nombreux nouveaux adhérents engagés\, il est temps de célébrer ensemble nos succès pour mieux nous projeter dans l’année 2026 qui commence. \nNous vous proposons de nous retrouver toutes et tous le temps d’un repas partagé à la Station A\, 14 boulevard Yvonne Poirel à Angers le 15 janvier à 19h. \nApportez vos meilleurs crêpes\, vos cakes et quoi boire un verre\, sans oublier votre bonne humeur !
URL:https://shifters-angers.org/agenda/repas-de-la-nouvelle-annee/
LOCATION:Station A\, 14 boulevard Yvonne Poirel\, Angers\, 49000\, France
CATEGORIES:Evénement
ATTACH;FMTTYPE=image/png:https://shifters-angers.org/wp-content/uploads/2025/12/Banniere-Shifters_bonne-annee-2026.png
END:VEVENT
END:VCALENDAR